BEGIN:VCALENDAR
VERSION:2.0
PRODID:-//ACOP - ECPv6.15.20//NONSGML v1.0//EN
CALSCALE:GREGORIAN
METHOD:PUBLISH
X-WR-CALNAME:ACOP
X-ORIGINAL-URL:https://acopgroup.com
X-WR-CALDESC:Events for ACOP
REFRESH-INTERVAL;VALUE=DURATION:PT1H
X-Robots-Tag:noindex
X-PUBLISHED-TTL:PT1H
BEGIN:VTIMEZONE
TZID:Europe/London
BEGIN:DAYLIGHT
TZOFFSETFROM:+0000
TZOFFSETTO:+0100
TZNAME:BST
DTSTART:20240331T010000
END:DAYLIGHT
BEGIN:STANDARD
TZOFFSETFROM:+0100
TZOFFSETTO:+0000
TZNAME:GMT
DTSTART:20241027T010000
END:STANDARD
BEGIN:DAYLIGHT
TZOFFSETFROM:+0000
TZOFFSETTO:+0100
TZNAME:BST
DTSTART:20250330T010000
END:DAYLIGHT
BEGIN:STANDARD
TZOFFSETFROM:+0100
TZOFFSETTO:+0000
TZNAME:GMT
DTSTART:20251026T010000
END:STANDARD
BEGIN:DAYLIGHT
TZOFFSETFROM:+0000
TZOFFSETTO:+0100
TZNAME:BST
DTSTART:20260329T010000
END:DAYLIGHT
BEGIN:STANDARD
TZOFFSETFROM:+0100
TZOFFSETTO:+0000
TZNAME:GMT
DTSTART:20261025T010000
END:STANDARD
END:VTIMEZONE
BEGIN:VEVENT
DTSTART;TZID=Europe/London:20250901T080000
DTEND;TZID=Europe/London:20250905T170000
DTSTAMP:20260422T002425
CREATED:20150318T161625Z
LAST-MODIFIED:20250716T090402Z
UID:6189-1756713600-1757091600@acopgroup.com
SUMMARY:Crawler Crane training (September 2025) CPCS
DESCRIPTION:A 5 day CPCS crawler crane training course (A02). Delivered one to one with instructor. \nThis course is designed for semi/ experienced operators \nThe aim of this course is to provide candidates with practical and theoretical knowledge to help undertake the role of a crawler crane operator. This qualification covers mobile cranes. \nThrough a combination of targeted training and experience\, an individual with the crawler crane will be able to accomplish the following: \nCrawler crane training course content\n\nRoles and responsibilities\n\nDescribe the nature of the sector of industry and their role and responsibilities as a plant operator\n\nPreparing for work with the mobile crane\n\nName and explain the purpose of principal components\, the basic construction\, controls and terminology\nConform with manufacturer’s requirements as per the operator’s handbook\, other types of information source and relevant regulations and legislation\nExplain all relevant documentation\nUndertake all pre-use checks\n\nTravelling and manoeuvring your mobile crane\n\nConfigure and set for travel\nTravel the crane to an area of work\nManoeuvre in confined spaces\n\nSetting up for work\n\nConfigure the crane for lifting duties\nExplain rigid and re-rigging procedures when fitting a lattice-type extension\nExplain action required for hazards\, underground and overhead services\n\nWorking tasks on the mobile crane\n\nProgramme / set-up Rated Capacity Indicators for lifting duties\nLift various loads using the full radius and slewing capabilities of a crane\nAccurately place loads\nChange falls of rope on a hook block\nMinimise the swinging of loads\nMove loads through machine travel (where applicable)\nMaintain safe working situations\nComply with signals and instructions\nExplain rigging and de-rigging procedures when fitting fly jibs or boom extensions\n\nCompleting work\n\nDismantle the crane in preparation of movement\n\nShutting down\n\nCarry out shut down and securing procedures\nExplain loading and loading procedures for machine transportation\n\n\nFor your reference you can download the relevant questions for the theory test. \nACOP Group is accredited by both CPCS and NPORS.
URL:https://acopgroup.com/course/crawler-crane-training-september-2025-cpcs/
LOCATION:ACOP Group Limited\, Capel Quarry\, Gorslas\,\, Llanelli\, SA14 7NH
ATTACH;FMTTYPE=image/jpeg:https://acopgroup.com/wp-content/uploads/2015/03/IMG_5310-scaled.jpeg
ORGANIZER;CN="ACOP Group":MAILTO:sion@acopgroup.com
END:VEVENT
BEGIN:VEVENT
DTSTART;TZID=Europe/London:20250915T080000
DTEND;TZID=Europe/London:20250918T170000
DTSTAMP:20260422T002425
CREATED:20150325T232528Z
LAST-MODIFIED:20250716T095504Z
UID:6204-1757923200-1758214800@acopgroup.com
SUMMARY:Articulated Dump Truck ADT training (September 2025) CPCS
DESCRIPTION:We are running a 4 day rear tipping articulated dumptruck (ADT) course for novice operators. \nThis course leads to a CPCS qualification for the rear tipping articulated dump trucks (all sizes) A56B. \nSpaces limited to a maximum of 2 delegates per course. \nThe aim of this course is to provide candidates with practical and theoretical knowledge to help undertake the role of an ADT operator. This qualification covers rear tipping articulated dump trucks. \nThrough a combination of targeted training and experience\, an individual with the ADT will be able to accomplish the following. \nADT training course content:\nRoles and responsibilities\n\nDescribe the nature of the sector of industry and their role and responsibilities as a plant operator\n\nPreparing for work\n\nName and explain the purpose of principal components\, the basic construction\, controls and terminology\nConform with manufacturer’s requirements as per the operator’s handbook\, other types of information source and relevant regulations and legislation\nUndertake all pre-use checks\n\nTravelling and manoeuvring\n\nConfigure and set for travel (site and highway)\nTravel over rough\, undulating ground\, steep inclines and level surfaces – loaded and unloaded\nManoeuvre in confined spaces whilst carrying loads\n\nSetting up for work with an ADT\n\nEnsure the suitability of the tipping and loading area\nExplain actions required for hazards\, underground and overhead services\n\nWorking tasks\n\nPosition to receive loads\nComply with loading procedures\nEnsure load integrity and security\nTransfer loads to different locations\nDischarge loads into trenches and over edges\n\nCompleting work\n\nMaintain safe and tidy working areas\n\nShutting down your ADT\n\nCarry out shut down and securing procedures\nExplain the loading and unloading procedures for machine transporting\n\n  \nFor your reference you can download the relevant questions for the theory test. \nACOP Group is accredited by both CPCS and NPORS.
URL:https://acopgroup.com/course/articulated-dump-truck-adt-training-september-2025-cpcs/
LOCATION:ACOP Group Limited\, Capel Quarry\, Gorslas\,\, Llanelli\, SA14 7NH
ATTACH;FMTTYPE=image/jpeg:https://acopgroup.com/wp-content/uploads/2019/07/86475614-4ee9-427f-b468-ed1ad33c0a4a.jpg
ORGANIZER;CN="ACOP Group":MAILTO:sion@acopgroup.com
END:VEVENT
END:VCALENDAR