BEGIN:VCALENDAR
VERSION:2.0
PRODID:-//ACOP - ECPv6.15.20//NONSGML v1.0//EN
CALSCALE:GREGORIAN
METHOD:PUBLISH
X-ORIGINAL-URL:https://acopgroup.com
X-WR-CALDESC:Events for ACOP
REFRESH-INTERVAL;VALUE=DURATION:PT1H
X-Robots-Tag:noindex
X-PUBLISHED-TTL:PT1H
BEGIN:VTIMEZONE
TZID:Europe/London
BEGIN:DAYLIGHT
TZOFFSETFROM:+0000
TZOFFSETTO:+0100
TZNAME:BST
DTSTART:20240331T010000
END:DAYLIGHT
BEGIN:STANDARD
TZOFFSETFROM:+0100
TZOFFSETTO:+0000
TZNAME:GMT
DTSTART:20241027T010000
END:STANDARD
BEGIN:DAYLIGHT
TZOFFSETFROM:+0000
TZOFFSETTO:+0100
TZNAME:BST
DTSTART:20250330T010000
END:DAYLIGHT
BEGIN:STANDARD
TZOFFSETFROM:+0100
TZOFFSETTO:+0000
TZNAME:GMT
DTSTART:20251026T010000
END:STANDARD
BEGIN:DAYLIGHT
TZOFFSETFROM:+0000
TZOFFSETTO:+0100
TZNAME:BST
DTSTART:20260329T010000
END:DAYLIGHT
BEGIN:STANDARD
TZOFFSETFROM:+0100
TZOFFSETTO:+0000
TZNAME:GMT
DTSTART:20261025T010000
END:STANDARD
END:VTIMEZONE
BEGIN:VEVENT
DTSTART;TZID=Europe/London:20250602T080000
DTEND;TZID=Europe/London:20250604T170000
DTSTAMP:20260422T053901
CREATED:20150318T132021Z
LAST-MODIFIED:20250522T092806Z
UID:6130-1748851200-1749056400@acopgroup.com
SUMMARY:Forward tipping dumper training (June 2025) CPCS
DESCRIPTION:A three day CPCS forward tipping dumper course (A09A).  Maximum of 3 learners. \nThis is a course designed for novice operators. \nDiscount available if course is in combination with a ride on roller over 5 days. \nThe aim of this course is to provide candidates with practical and theoretical knowledge to help undertake the role of a roller operator. This qualification covers forward tipping dumpers. \nThrough a combination of targeted training and experience\, an individual with the forward tipping dumpers will be able to accomplish the following. \nForward tipping dumper training course content\nOutcomes\nThrough a combination of targeted training and experience\, an individual with the forward tipping dumper will be able to: \n\nRoles and responsibilities\n\nDescribe the nature of the sector of industry and their role and responsibilities as a plant operator\n\nPreparing for work\n\nName and explain the purpose of principal components\, the basic construction\, controls and terminology\nConform with manufacturer’s requirements as per the operator’s handbook\, other types of information source and relevant regulations and legislation\nUndertake all pre-use checks\n\nTravelling and manoeuvring\n\nConfigure and ready for travel (site and highway)\nTravel over rough\, undulating ground\, steep inclines and level surfaces – loaded and unloaded\nManoeuvre in confined spaces whilst carrying loads\n\nSetting up for work\n\nEnsure the suitability of the tipping and loading area\nExplain actions required for hazards\, underground and overhead services\nPosition to receive loads\n\nWorking tasks\n\nComply with loading procedures\nEnsure load integrity and security\nTransfer loads to different locations\nDischarge loads into trenches and over edges\n\nCompleting work\n\nMaintain safe and tidy working areas\n\nShutting down\n\nCarry out shut down and securing procedures\nExplain the loading and unloading procedures for machine transporting\n\n\nFor your reference you can download the relevant questions for the theory test. \nACOP Group is accredited by both CPCS and NPORS.
URL:https://acopgroup.com/course/forward-tipping-dumper-training-june-2025-cpcs/
LOCATION:ACOP Group Limited\, Capel Quarry\, Gorslas\,\, Llanelli\, SA14 7NH
ATTACH;FMTTYPE=image/jpeg:https://acopgroup.com/wp-content/uploads/2015/03/30CC397C-829D-4272-9701-33EE784C9949.jpeg
ORGANIZER;CN="ACOP Group":MAILTO:sion@acopgroup.com
END:VEVENT
BEGIN:VEVENT
DTSTART;TZID=Europe/London:20250609T080000
DTEND;TZID=Europe/London:20250612T170000
DTSTAMP:20260422T053901
CREATED:20150325T232528Z
LAST-MODIFIED:20250716T095509Z
UID:6128-1749456000-1749747600@acopgroup.com
SUMMARY:Articulated Dump Truck ADT training (June 2025) CPCS
DESCRIPTION:We are running a 4 day rear tipping articulated dumptruck (ADT) course for novice operators. \nThis course leads to a CPCS qualification for the rear tipping articulated dump trucks (all sizes) A56B. \nSpaces limited to a maximum of 2 delegates per course. \nThe aim of this course is to provide candidates with practical and theoretical knowledge to help undertake the role of an ADT operator. This qualification covers rear tipping articulated dump trucks. \nThrough a combination of targeted training and experience\, an individual with the ADT will be able to accomplish the following. \nADT training course content:\nRoles and responsibilities\n\nDescribe the nature of the sector of industry and their role and responsibilities as a plant operator\n\nPreparing for work\n\nName and explain the purpose of principal components\, the basic construction\, controls and terminology\nConform with manufacturer’s requirements as per the operator’s handbook\, other types of information source and relevant regulations and legislation\nUndertake all pre-use checks\n\nTravelling and manoeuvring\n\nConfigure and set for travel (site and highway)\nTravel over rough\, undulating ground\, steep inclines and level surfaces – loaded and unloaded\nManoeuvre in confined spaces whilst carrying loads\n\nSetting up for work with an ADT\n\nEnsure the suitability of the tipping and loading area\nExplain actions required for hazards\, underground and overhead services\n\nWorking tasks\n\nPosition to receive loads\nComply with loading procedures\nEnsure load integrity and security\nTransfer loads to different locations\nDischarge loads into trenches and over edges\n\nCompleting work\n\nMaintain safe and tidy working areas\n\nShutting down your ADT\n\nCarry out shut down and securing procedures\nExplain the loading and unloading procedures for machine transporting\n\n  \nFor your reference you can download the relevant questions for the theory test. \nACOP Group is accredited by both CPCS and NPORS.
URL:https://acopgroup.com/course/articulated-dump-truck-adt-training-june-2025-cpcs/
LOCATION:ACOP Group Limited\, Capel Quarry\, Gorslas\,\, Llanelli\, SA14 7NH
ATTACH;FMTTYPE=image/jpeg:https://acopgroup.com/wp-content/uploads/2019/07/86475614-4ee9-427f-b468-ed1ad33c0a4a.jpg
ORGANIZER;CN="ACOP Group":MAILTO:sion@acopgroup.com
END:VEVENT
BEGIN:VEVENT
DTSTART;TZID=Europe/London:20250623T080000
DTEND;TZID=Europe/London:20250625T170000
DTSTAMP:20260422T053901
CREATED:20150318T162556Z
LAST-MODIFIED:20250522T092927Z
UID:6137-1750665600-1750870800@acopgroup.com
SUMMARY:Ride on roller training (June 2025) CPCS
DESCRIPTION:A three day CPCS ride on roller training course (A31). Maximum of 3 learners. \nThis is a course designed for novice operators. \nDiscount available if course is in combination with a forward tipping dumper over 5 days. \nThe aim of this course is to provide candidates with practical and theoretical knowledge to help undertake the role of a roller operator. This qualification covers ride-on rollers. \nThrough a combination of targeted training and experience\, an individual with the Ride on Roller will be able to accomplish the following. \nRide on roller training course content\n\nRoles and responsibilities\n\nDescribe the nature of the sector of industry and their role and responsibilities as a plant operator\n\nPreparing for work with the ride on roller\n\nName and explain the purpose of principal components\, the basic construction\, controls and terminology\nConform with manufacturer’s requirements as per the operator’s handbook\, other types of information source and relevant regulations and legislation\nUndertake all pre-use and running checks\n\nTravelling and manoeuvring your ride on roller\n\nConfigure and set for site travel\nTravel over rough\, undulating ground\, substantial inclines and level surfaces\nManoeuvre in confined spaces\n\nSetting up for work\n\nConfigure and set for compacting duties\nExplain actions required for hazards\, underground and overhead services\n\nWorking tasks on the ride on roller\n\nCompact loose granular materials to specification\nCompact in straight lines and around radii\nCompact supported and unsupported edges\nExplain the principles\, requirements and techniques of good compaction\n\nShutting down\n\nCarry out shut down and securing procedures\nExplain the loading and unloading procedures for machine transporting\n\n\nFor your reference you can download the relevant questions for the theory test. \nACOP Group is accredited by both CPCS and NPORS.
URL:https://acopgroup.com/course/ride-on-roller-training-june-2025-cpcs/
LOCATION:ACOP Group Limited\, Capel Quarry\, Gorslas\,\, Llanelli\, SA14 7NH
ATTACH;FMTTYPE=image/jpeg:https://acopgroup.com/wp-content/uploads/2015/03/IMG_7841-scaled.jpg
ORGANIZER;CN="ACOP Group":MAILTO:sion@acopgroup.com
END:VEVENT
END:VCALENDAR