BEGIN:VCALENDAR
VERSION:2.0
PRODID:-//ACOP - ECPv6.15.20//NONSGML v1.0//EN
CALSCALE:GREGORIAN
METHOD:PUBLISH
X-WR-CALNAME:ACOP
X-ORIGINAL-URL:https://acopgroup.com
X-WR-CALDESC:Events for ACOP
REFRESH-INTERVAL;VALUE=DURATION:PT1H
X-Robots-Tag:noindex
X-PUBLISHED-TTL:PT1H
BEGIN:VTIMEZONE
TZID:Europe/London
BEGIN:DAYLIGHT
TZOFFSETFROM:+0000
TZOFFSETTO:+0100
TZNAME:BST
DTSTART:20220327T010000
END:DAYLIGHT
BEGIN:STANDARD
TZOFFSETFROM:+0100
TZOFFSETTO:+0000
TZNAME:GMT
DTSTART:20221030T010000
END:STANDARD
BEGIN:DAYLIGHT
TZOFFSETFROM:+0000
TZOFFSETTO:+0100
TZNAME:BST
DTSTART:20230326T010000
END:DAYLIGHT
BEGIN:STANDARD
TZOFFSETFROM:+0100
TZOFFSETTO:+0000
TZNAME:GMT
DTSTART:20231029T010000
END:STANDARD
BEGIN:DAYLIGHT
TZOFFSETFROM:+0000
TZOFFSETTO:+0100
TZNAME:BST
DTSTART:20240331T010000
END:DAYLIGHT
BEGIN:STANDARD
TZOFFSETFROM:+0100
TZOFFSETTO:+0000
TZNAME:GMT
DTSTART:20241027T010000
END:STANDARD
END:VTIMEZONE
BEGIN:VEVENT
DTSTART;VALUE=DATE:20230306
DTEND;VALUE=DATE:20230314
DTSTAMP:20260420T004820
CREATED:20150318T160709Z
LAST-MODIFIED:20221208T171928Z
UID:5228-1678060800-1678751999@acopgroup.com
SUMMARY:Appointed person (lift planner) course (March 2023) CPCS
DESCRIPTION:We are running 6 day CPCS Appointed person (A61) course\, \nThis involves 5 consecutive days training from Monday to Friday\, with CPCS technical test on the following Monday. \nThis course is designed for individuals appointed to plan and manage lifting operations on site. \nIf the A40 slinger/signaller category is already held under CPCS\, then the Crane Supervisor endorsement is also issued upon successful completion of the AP course. \nSpaces are limited to 6 delegates per course. \nThe aim of this course is to provide candidates with practical and theoretical knowledge to help undertake the role of an Appointed Person/ lift planner. \nAppointed Person course content\nThrough a combination of targeted training and experience\, an appointed person will be able to: \n\nLegislative and regulative\n\nState basic requirements of legislation\, regulations\, codes of practice\, guidance and good practice documentation that relate to all types of lifting duties\nExplain the duties and responsibilities of those involved in a lifting operation including: an appointed person\, a lifting operations supervisor\, a lift co-ordinator\, a machine operator\, a slinger\, a signaller\, a lifting equipment installer/erector and maintenance personnel\nIdentify the requirements for basic\, standard and complex lifts\nDescribe the lighting requirements for in and out of service conditions for lifting equipment\nState requirements to be followed when planning the lifting of persons\n\nLifting equipment\n\nIdentify different types of lifting equipment\, and explain capabilities and limitations of each for given lifting operations\nOutline pre-use checks requirements for lifting equipment and accessories\nExplain maintenance inspection\, thorough examination and testing requirements for lifting equipment and accessories\nDescribe setting up\, erection\, levelling and dismantling requirements for different types of lifting equipment and lifting operations\nCalculate lifting equipment point loadings/outrigger loadings\, spreader mat types and sizes from given information\nIdentify ground pressure and support loadings from given information\nExplain the function and use of\, and use information provided by\, RCIs and safety devices applicable to a range of lifting equipment\nSelect the correct lifting equipment for specified lifts\nExtract information from manufacturer’s technical specifications\, duties charts\, range diagrams and other information sources\nSpecify lifting equipment configurations for specific types of lifting operations\nIdentify attachments and ancillaries to lifting equipment.\nDescribe out of service procedures for lifting equipment including locations\, configurations\, and markings\n\nLifting accessories\n\nList different types of lifting accessories and explain typical applications\nIdentify and explain relevant information relating to different types of lifting accessories e.g. markings\, certificates and thorough examination reports\nCalculate sling capacities\, lengths and angles\nExplain slinging techniques for given loads including balanced\, unbalanced and loose\nSpecify appropriate lifting accessories for given types of loads\nIdentify weights and centres of gravity for different types of loads\n\nCommunication\n\nDescribe and specify different types of communication methods for lifting purposes\nExplain factors that determine types of communication methods\, the limitations of each and the effects of poor communication\nState the need to complete a reflective report following a typical lifting operation\n\nPlanning\n\nIdentify potential proximity and underground hazards from given plans and drawings\nIdentify and plan an area\, with exclusion zones for different\, given lifting operations incorporating safe access/egress routes for before\, during and after the lift\nState requirements that allow safe site access and egress for typical lifting equipment\nSpecify the security requirements for specific lifting operations\nConstruct a safe system of work by producing risk assessments\, method statements and lift plans\, including drawings\, using given information\nExplain additional requirements for pick and carry duties\nCommunicate lift plan information to others involved in a lifting operation i.e. lifting supervisor\, machine operator\, slinger etc.\nSpecify positioning of lifting equipment\, loads in relation to fixed objects and other limiting factors\nExplain the definition\, requirements and factors for temporary works management and the effects on typical lifting operations\nIdentify how the effects of fatigue on the lifting team can affect a lifting operation and how it should be managed\nEvaluate and explain how the weather\, other environmental factors\, and the surrounding area external to the lift zone – can affect the planned lifting operation\nExplain how wind loadings and sail-affect areas are calculated\nDescribe notification\, liaising and reporting procedures to statutory\, authority\, and utility bodies when affected by the lifting operation\, i.e. works\, railways\, highways\, airfields\, etc.\nExplain the requirements to be followed when lifting loads from height\n\n\nFor your reference you can download the relevant questions for the theory test. \nACOP Group is accredited by both CPCS and NPORS.
URL:https://acopgroup.com/course/appointed-person-lift-planner-course-march-2023-cpcs/
LOCATION:ACOP Group Limited\, Capel Quarry\, Gorslas\,\, Llanelli\, SA14 7NH
ATTACH;FMTTYPE=image/jpeg:https://acopgroup.com/wp-content/uploads/2019/07/f14e3710-30f5-4ed5-9c1f-420d55113a1a.jpg
ORGANIZER;CN="ACOP Group":MAILTO:sion@acopgroup.com
END:VEVENT
BEGIN:VEVENT
DTSTART;VALUE=DATE:20230227
DTEND;VALUE=DATE:20230311
DTSTAMP:20260420T004820
CREATED:20150318T152506Z
LAST-MODIFIED:20230201T084036Z
UID:5297-1677456000-1678492799@acopgroup.com
SUMMARY:Tracked 360 Excavator training - novice course (March 2023) CPCS
DESCRIPTION:A ten day CPCS tracked 360 excavator course with lifting ops (A59A &C). \nSpaces are limited to 4 delegates\, maximum of 2 learners per machine. \nThis is a full foundation course designed for novice operators. \nThe course runs across 10 consecutive week days with a CPCS technical test on the final (10th) day. \nThe aim of this course is to provide candidates with practical and theoretical knowledge to help undertake the excavator operator. This qualification covers 360 excavators. \nThrough a combination of targeted training and experience\, an individual with the 360 excavator will be able to accomplish the following. \n360 Excavator training course content\n\nRoles and responsibilities\n• Describe the nature of the sector of industry and their role and responsibilities as a plant operator\nPreparing for work\n• Name and explain the purpose of principal components\, the basic construction\, controls and terminology\n• Conform with manufacturer’s requirements as per the operator’s manual\, other types of information source and relevant regulations and legislation\n• Undertake all pre-use checks \nTravelling and manoeuvring your 360 excavator\n• Configure and set for travel (site and highway – where applicable)\n• Travel over rough\, undulating ground\, substantial inclines and level surfaces\n• Manoeuvre in confined spaces \nSetting up for work with the 360 excavator\n\n• Configure and set for excavating duties\n• Explain actions required for hazards\, underground and overhead services \nWorking tasks on the 360 excavator\n• Excavate differing types of excavations in various types of ground\n• Place materials into transporting vehicles and hoppers\n• Grade\, spread and level ground and materials\n• Attach and remove buckets\n• Lift\, move and place a variety of slung loads (Endorsement C)\n• Travel with slung loads (Endorsement C) \nShutting down\n\n• Carry out shut down and securing procedures\n• Explain the loading and unloading procedures for machine transporting \n  \nFor your reference you can download the relevant questions for the theory test. \nACOP Group is accredited by both CPCS and NPORS.
URL:https://acopgroup.com/course/360-excavator-training-novice-course-march-2023-cpcs/
LOCATION:ACOP Group Limited\, Capel Quarry\, Gorslas\,\, Llanelli\, SA14 7NH
ATTACH;FMTTYPE=image/jpeg:https://acopgroup.com/wp-content/uploads/2019/11/jcb140x-2.jpg
ORGANIZER;CN="ACOP Group":MAILTO:sion@acopgroup.com
END:VEVENT
BEGIN:VEVENT
DTSTART;VALUE=DATE:20230227
DTEND;VALUE=DATE:20230311
DTSTAMP:20260420T004820
CREATED:20150318T152506Z
LAST-MODIFIED:20230505T121000Z
UID:5397-1677456000-1678492799@acopgroup.com
SUMMARY:Tracked 360 Excavator training - novice course (February 2023) NPORS
DESCRIPTION:A ten day NPORS tracked 360 excavator course. \nSpaces are limited to 2 delegates\, maximum of 2 learners per machine. \nThis is a full foundation course designed for novice operators. \nThe course runs across 10 consecutive week days with an NPORS test on the final (10th) day. \nThe aim of this course is to provide candidates with practical and theoretical knowledge to help undertake the excavator operator. This qualification covers 360 excavators. \nThrough a combination of targeted training and experience\, an individual with the 360 excavator will be able to accomplish the following. \n360 Excavator training course content\n\nRoles and responsibilities\n• Describe the nature of the sector of industry and their role and responsibilities as a plant operator\nPreparing for work\n• Name and explain the purpose of principal components\, the basic construction\, controls and terminology\n• Conform with manufacturer’s requirements as per the operator’s manual\, other types of information source and relevant regulations and legislation\n• Undertake all pre-use checks \nTravelling and manoeuvring your 360 excavator\n• Configure and set for travel (site and highway – where applicable)\n• Travel over rough\, undulating ground\, substantial inclines and level surfaces\n• Manoeuvre in confined spaces \nSetting up for work with the 360 excavator\n\n• Configure and set for excavating duties\n• Explain actions required for hazards\, underground and overhead services \nWorking tasks on the 360 excavator\n• Excavate differing types of excavations in various types of ground\n• Place materials into transporting vehicles and hoppers\n• Grade\, spread and level ground and materials\n• Attach and remove buckets\n• Lift\, move and place a variety of slung loads (Endorsement C)\n• Travel with slung loads (Endorsement C) \nShutting down\n\n• Carry out shut down and securing procedures\n• Explain the loading and unloading procedures for machine transporting \nACOP Group is accredited by both CPCS and NPORS.
URL:https://acopgroup.com/course/tracked-360-excavator-training-novice-course-february-2023-npors/
LOCATION:ACOP Group Limited\, Capel Quarry\, Gorslas\,\, Llanelli\, SA14 7NH
ATTACH;FMTTYPE=image/jpeg:https://acopgroup.com/wp-content/uploads/2019/11/jcb140x-2.jpg
ORGANIZER;CN="ACOP Group":MAILTO:sion@acopgroup.com
END:VEVENT
BEGIN:VEVENT
DTSTART;VALUE=DATE:20230227
DTEND;VALUE=DATE:20230304
DTSTAMP:20260420T004820
CREATED:20150318T161625Z
LAST-MODIFIED:20230123T090517Z
UID:5237-1677456000-1677887999@acopgroup.com
SUMMARY:Crawler crane training (Feb/ March 2023) CPCS
DESCRIPTION:A 5 day CPCS crawler crane training course (A02). Delivered one to one with instructor. \nThis course is designed for semi/ experienced operators \nThe aim of this course is to provide candidates with practical and theoretical knowledge to help undertake the role of a crawler crane operator. This qualification covers mobile cranes. \nThrough a combination of targeted training and experience\, an individual with the crawler crane will be able to accomplish the following: \nCrawler crane training course content\n\nRoles and responsibilities\n\nDescribe the nature of the sector of industry and their role and responsibilities as a plant operator\n\nPreparing for work with the mobile crane\n\nName and explain the purpose of principal components\, the basic construction\, controls and terminology\nConform with manufacturer’s requirements as per the operator’s handbook\, other types of information source and relevant regulations and legislation\nExplain all relevant documentation\nUndertake all pre-use checks\n\nTravelling and manoeuvring your mobile crane\n\nConfigure and set for travel\nTravel the crane to an area of work\nManoeuvre in confined spaces\n\nSetting up for work\n\nConfigure the crane for lifting duties\nExplain rigid and re-rigging procedures when fitting a lattice-type extension\nExplain action required for hazards\, underground and overhead services\n\nWorking tasks on the mobile crane\n\nProgramme / set-up Rated Capacity Indicators for lifting duties\nLift various loads using the full radius and slewing capabilities of a crane\nAccurately place loads\nChange falls of rope on a hook block\nMinimise the swinging of loads\nMove loads through machine travel (where applicable)\nMaintain safe working situations\nComply with signals and instructions\nExplain rigging and de-rigging procedures when fitting fly jibs or boom extensions\n\nCompleting work\n\nDismantle the crane in preparation of movement\n\nShutting down\n\nCarry out shut down and securing procedures\nExplain loading and loading procedures for machine transportation\n\n\nFor your reference you can download the relevant questions for the theory test. \nACOP Group is accredited by both CPCS and NPORS.
URL:https://acopgroup.com/course/crawler-crane-training-february-2023-cpcs-2/
LOCATION:ACOP Group Limited\, Capel Quarry\, Gorslas\,\, Llanelli\, SA14 7NH
ATTACH;FMTTYPE=image/jpeg:https://acopgroup.com/wp-content/uploads/2015/03/IMG_2940-scaled.jpeg
ORGANIZER;CN="ACOP Group":MAILTO:sion@acopgroup.com
END:VEVENT
END:VCALENDAR